BEGIN:VCALENDAR
VERSION:2.0
PRODID:-//Illinois Water Ski Federation - ECPv6.15.17.1//NONSGML v1.0//EN
CALSCALE:GREGORIAN
METHOD:PUBLISH
X-ORIGINAL-URL:https://www.illinoiswaterski.com
X-WR-CALDESC:Events for Illinois Water Ski Federation
REFRESH-INTERVAL;VALUE=DURATION:PT1H
X-Robots-Tag:noindex
X-PUBLISHED-TTL:PT1H
BEGIN:VTIMEZONE
TZID:UTC
BEGIN:STANDARD
TZOFFSETFROM:+0000
TZOFFSETTO:+0000
TZNAME:UTC
DTSTART:20170101T000000
END:STANDARD
END:VTIMEZONE
BEGIN:VEVENT
DTSTART;VALUE=DATE:20210904
DTEND;VALUE=DATE:20210905
DTSTAMP:20260420T033215
CREATED:20210606T153449Z
LAST-MODIFIED:20210606T153449Z
UID:35266-1630713600-1630799999@www.illinoiswaterski.com
SUMMARY:PITS FALL FESTIVAL
DESCRIPTION:Sanction ID:\n22M012\n\n\nDescription:\n6 Pulls PandC\,   Slalom  3C \, Trick  3C \, Jump  3C\n\n\nSponsor:\nP.I.T.S. Water Skiers Inc.\n\n\nSite:\nPITS Lake\n\n\nSite ID:\nUSAM0143\n\n\nCity/St:\nDecatur\, IL\n\n\nEntry:\nOpen\n\n\nTow Boat:\nOpen\n\n\nEntry Limit:\n100 Pulls\n\n\nEntry Fees:\nFee per Pull 1C $60\,2C $10\,3C $10\, 1 GR Event $40\n\n\nEnter By:\n9/1/2021\n\n\nLate Fee:\n$10Per Day\n\n\nSend Entries To:\nBecky Chappell\n350 Gravel Pit Road\nDecatur\, IL 62522\n217-972-8677\nbecky.chappell@comcast.net\n\n\nAccommodations:\nPrimitive camping on site. No hookups. Hotels – Decatur Conference Center and Americas Best Inn\n\n\nDirections:\nPITS Lake – Decatur IL. I-72 exit 133A. Turn left at the 1st stop light onto Harristown Blvd. Lake is 0.25 miles on the right.\n\n\nAwards:\nNone\n\n\nPractice:\nFriday evening after 5 pm\n\n\nStart Time:\n8 am\n\n\nSched of Events:\nSlalom Rd 1 Trick Rd 1-3 Jump Rd 1-3 Slalom Rd 2-3\n\n\nEntry Reqts:\n\n\nComments:\n20 percent discount for families of 3 or more. 100 pulls maximum.\n\n\nTourn Dir:\nBecky Chappell
URL:https://www.illinoiswaterski.com/event/pits-fall-festival-3/
LOCATION:PITS\, Decatur\, IL\, United States
ORGANIZER;CN="Becky Chappell":MAILTO:becky.chappell@comcast.net
END:VEVENT
BEGIN:VEVENT
DTSTART;VALUE=DATE:20210808
DTEND;VALUE=DATE:20210815
DTSTAMP:20260420T033215
CREATED:20210606T153253Z
LAST-MODIFIED:20210606T153253Z
UID:35264-1628380800-1628985599@www.illinoiswaterski.com
SUMMARY:79th GOODE Water Ski National Championships
DESCRIPTION:Sanction ID:\n21M999\n\n\nDescription:\nSlalom  1E 1L 1R \,    Trick  1E 1L 1R \,    Jump  1E 1L 1R\n\n\nSponsor:\nWaters Edge Ski Club\n\n\nSite:\nWaters Edge\n\n\nSite ID:\nUSAM0156\n\n\nCity/St:\nWilmington\, IL\n\n\nEntry:\nOpen\n\n\nTow Boat:\nOpen\n\n\nEntry Limit:\nUnlimited\n\n\nEntry Fees:\nFee per Event 1E $165\,2E $200\,3E $2351L $165\,2L $200\,3L $2351R $165\,2R $200\,3R $235\n\n\nEnter By:\n8/2/2021\n\n\nLate Fee:\n$15Per Day\n\n\nSend Entries To:\nJeff Surdej\n21500 W No Wake Ave\nWilmington\, IL 60481\n815-482-5666\nj_surdej@yahoo.com\n\n\nAccommodations:\nwww.usawaterski.org\n\n\nDirections:\nI-55 to Wilmington exit 241. turn left. go 4 miles until road ends. Take a right to light. Turn left on Peotone rd. Site is on your left.\n\n\nAwards:\nTop 5\n\n\nPractice:\nwww.usawaterski.org\n\n\nStart Time:\nwww.usawaterski.org\n\n\nSched of Events:\nwww.usawaterski.org\n\n\nEntry Reqts:\n\n\nComments:\nwww.usawaterski.org
URL:https://www.illinoiswaterski.com/event/79th-goode-water-ski-national-championships/
LOCATION:Waters Edge\, Wilmington\, IL\, United States
ORGANIZER;CN="Jeff Surdej":MAILTO:j_surdej@yahoo.com
END:VEVENT
BEGIN:VEVENT
DTSTART;VALUE=DATE:20210730
DTEND;VALUE=DATE:20210802
DTSTAMP:20260420T033215
CREATED:20210606T153020Z
LAST-MODIFIED:20210606T153020Z
UID:35262-1627603200-1627862399@www.illinoiswaterski.com
SUMMARY:Liquid Edge Midwest Waterski Championships
DESCRIPTION:Sanction ID:\n21M998\n\n\nDescription:\nSlalom  1E 1L 1R \,    Trick  1E 1L 1R \,    Jump  1E 1L 1R\n\n\nSponsor:\nWaters Edge Ski Club\n\n\nSite:\nWaters Edge\n\n\nSite ID:\nUSAM0156\n\n\nCity/St:\nWilmington\, IL\n\n\n\n\n\n \n\n\n\n\n\nEntry:\nOpen\n\n\nTow Boat:\nOpen\n\n\nEntry Limit:\nUnlimited\n\n\nEntry Fees:\nFee per Event 1E $105\,2E $120\,3E $1301L $105\,2L $120\,3L $1301R $105\,2R $120\,3R $130\n\n\nEnter By:\n7/1/2021\n\n\nLate Fee:\n$10Per Day\n\n\nSend Entries To:\nJeff Surdej\n21500 W No Wake Ave\nWilmington\, IL 60481\n815-482-5666\nj_surdej@yahoo.com\n\n\nAccommodations:\nVisit www.awsamidwest.org for online reservation links.\n\n\nDirections:\nI-55 to Wilmington exit 241. turn left. go 4 miles until road ends. Take a right to light. Turn left on Peotone rd. Site is on your left.\n\n\nAwards:\nTop 5\n\n\nPractice:\nSee www.awsamidwest.org. Thursday after boat test. Friday after tournament. No Saturday practice.\n\n\nStart Time:\nSee www.awsamidwest.org\n\n\nSched of Events:\nSee www.awsamidwest.org\n\n\nEntry Reqts:\n\n\nComments:\nSee www.awsamidwest.org
URL:https://www.illinoiswaterski.com/event/liquid-edge-midwest-waterski-championships/
LOCATION:Waters Edge\, Wilmington\, IL\, United States
ORGANIZER;CN="Jeff Surdej":MAILTO:j_surdej@yahoo.com
END:VEVENT
BEGIN:VEVENT
DTSTART;VALUE=DATE:20210724
DTEND;VALUE=DATE:20210726
DTSTAMP:20260420T033215
CREATED:20210606T152708Z
LAST-MODIFIED:20210606T152708Z
UID:35257-1627084800-1627257599@www.illinoiswaterski.com
SUMMARY:Illinois State Championships
DESCRIPTION:Sanction ID:\n21M055\n\n\nDescription:\nSlalom  2C 2L \,    Trick  2C 2L \,    Jump  2C 2L\n\n\nSponsor:\nLake Richard Ski Club\n\n\nSite:\nLake Richard\n\n\nSite ID:\nUSAM0144\n\n\nCity/St:\nDow\, IL\n\n\nEntry:\nOpen\n\n\nTow Boat:\nOpen\n\n\nEntry Limit:\n110 Pulls\n\n\nEntry Fees:\nFee per Event 1C $50\,2C $60\,3C $701L $60\,2L $70\,3L $80\n\n\nEnter By:\n7/23/2021\n\n\nLate Fee:\n$20\n\n\nSend Entries To:\nSandra Roberts\n26374 Lake Richard Drive\nDow\, IL 62022\n618-616-0879\nsandra.roberts@frontiernet.net\n\n\nAccommodations:\nPrimitve Camping. Hotels in Alton and Jerseyville\n\n\nDirections:\nNorth of Alton and south of Jerseyville. Call if you need assistance.\n\n\nAwards:\n\n\nPractice:\nFriday after 4:00pm\n\n\nStart Time:\n8:00am\n\n\nSched of Events:\nSTJ\n\n\nTourn Dir:\nDebbie Schultz
URL:https://www.illinoiswaterski.com/event/illinois-state-championships-2/
LOCATION:Lake Richard\, Dow\, IL\, United States
END:VEVENT
BEGIN:VEVENT
DTSTART;VALUE=DATE:20210723
DTEND;VALUE=DATE:20210724
DTSTAMP:20260420T033215
CREATED:20210606T152809Z
LAST-MODIFIED:20210606T152809Z
UID:35260-1626998400-1627084799@www.illinoiswaterski.com
SUMMARY:Illinois Junior Skier Camp
DESCRIPTION:More Info Coming Soon!!!
URL:https://www.illinoiswaterski.com/event/illinois-junior-skier-camp/
LOCATION:Lake Richard\, Dow\, IL\, United States
END:VEVENT
BEGIN:VEVENT
DTSTART;VALUE=DATE:20210717
DTEND;VALUE=DATE:20210719
DTSTAMP:20260420T033215
CREATED:20210606T152309Z
LAST-MODIFIED:20210606T152309Z
UID:35254-1626480000-1626652799@www.illinoiswaterski.com
SUMMARY:Fish Fry Green Lightening Team Tournament
DESCRIPTION:Sanction ID:\n21M056\n\n\nDescription:\nSlalom  4C 4L \,    Trick  4C 4L \,    Jump  3GR 4C 4L\n\n\nSponsor:\nWaters Edge Ski Club\n\n\nSite:\nWaters Edge\n\n\nSite ID:\nUSAM0156\n\n\nCity/St:\nWilmington\, IL\n\n\nTow Boat:\nOpen\n\n\nEntry Limit:\n350 Pulls\n\n\nEntry Fees:\nFee per Event 1C $70\,2C $80\,3C $901L $80\,2L $90\,3L $100\, 1 GR Event $25\, 2 GR Events $30\, 3 or more GR Events $35\n\n\nEnter By:\n7/1/2021\n\n\nLate Fee:\n$25\n\n\nSend Entries To:\nJeff Surdej\n21500 W No Wake Ave\nWilmington\, IL 60481\n815-482-4566\nj_surdej@yahoo.com\n\n\nAccommodations:\nHQ-Hampton Inn Joliet-I-80 815-725-2424. Town Place Suites-Joliet-I-80 815-725-2400\n\n\nDirections:\nI-55 to Wilmington exit 241. turn left. go 4 miles until road ends. Take a right to light. Turn left on Peotone rd. Site is on your left.\n\n\nAwards:\nFinal Four in each event and Top 3 Teams\n\n\nPractice:\nFriday time permitting\n\n\nStart Time:\n7:30\n\n\nSched of Events:\nRunning Order TBD\n\n\nComments:\nFamily disc. 20 percent reimbursed @ site. Teams made up of 12 pulls. Head to head bracketed handicapped. Lunch included in entry. Fish Fry Saturday Night. Mini Course Available. Submit teams by 7/1 to j_surdej@yahoo.com\n\n\nTourn Dir:\nJeff Surdej
URL:https://www.illinoiswaterski.com/event/fish-fry-green-lightening-team-tournament/
LOCATION:Waters Edge\, Wilmington\, IL\, United States
ORGANIZER;CN="Jeff Surdej":MAILTO:j_surdej@yahoo.com
END:VEVENT
BEGIN:VEVENT
DTSTART;VALUE=DATE:20210710
DTEND;VALUE=DATE:20210711
DTSTAMP:20260420T033215
CREATED:20210606T152033Z
LAST-MODIFIED:20210606T152033Z
UID:35252-1625875200-1625961599@www.illinoiswaterski.com
SUMMARY:14th Annual Glenn Ramey Memorial
DESCRIPTION:Sanction ID:\n21M059\n\n\nDescription:\n4 Pulls PandC\,   Slalom  3C 3L \, Trick  2C 2L \, Jump  2C 2L\n\n\nSponsor:\nP.I.T.S. Water Skiers Inc.\n\n\nSite:\nPITS Lake\n\n\nCity/St:\nDecatur\, IL\n\n\nEntry Limit:\n100 Pulls\n\n\nEntry Fees:\nFee per Pull 1C $60\,2C $10\,3C $101L $70\,2L $10\,3L $10\, 1 GR Event $40\n\n\nEnter By:\n7/7/2021\n\n\nLate Fee:\n$10Per Day\n\n\nSend Entries To:\nBecky Chappell\n350 S Gravel Pit Road\nDecatur\, IL 62522\n217-972-8677\nbecky.chappell@comcast.net\n\n\nAccommodations:\nPrimitive camping on site. No hook-ups. Hotels: Decatur Conference Center 217-422-8800. Americas Best Inn 217-422-5900\n\n\nDirections:\nPITS Lake-Decatur IL I-72 exit 133A. Turn left at 1st stop light on Harristown Blvd. Lake is 0.25 mile on the right.\n\n\nAwards:\nNone\n\n\nPractice:\nAfter 5 PM Friday evening\n\n\nStart Time:\n8:00 AM\n\n\nSched of Events:\nSlalom Rd 1: Trick Rd 1: Jump Rd 1-2: Trick Rd 2 Slalom Rd 2-3\n\n\nComments:\nFirst 100 PAID pulls. Please use online registration. 1 Event skier: 2 pulls max. – 2 event skier: 3 pulls max. – 3 event skier: 4 pulls max. Please mark entry with number of pulls per event. 20 percent disc for families of 3 or more.\n\n\nTourn Dir:\nBecky Chappell
URL:https://www.illinoiswaterski.com/event/14th-annual-glenn-ramey-memorial/
LOCATION:PITS\, Decatur\, IL\, United States
ORGANIZER;CN="Becky Chappell":MAILTO:becky.chappell@comcast.net
END:VEVENT
BEGIN:VEVENT
DTSTART;VALUE=DATE:20210703
DTEND;VALUE=DATE:20210705
DTSTAMP:20260420T033215
CREATED:20210606T151703Z
LAST-MODIFIED:20210606T151703Z
UID:35249-1625270400-1625443199@www.illinoiswaterski.com
SUMMARY:JAWS 3 Round Record and Fun
DESCRIPTION:Sanction ID:\n21M061\n\n\nDescription:\n5 Pulls PandC\,   Slalom  3C 3E 3L \, Trick  3C 3E 3L \, Jump  3GR 3C 3E 3L\n\n\nSponsor:\nJacksonville Area Water Skiers\n\n\nSite:\nLake Leutz\n\n\nCity/St:\nJacksonville\, IL\n\n\nEntry Limit:\n100 Pulls\n\n\nEntry Fees:\nFee per Pull 1C $45\,2C $10\,3C $101E $55\,2E $10\,3E $101L $65\,2L $15\,3L $15\, 1 GR Event $45\, 2 GR Events $55\, 3 or more GR Events $65\n\n\nEnter By:\n6/29/2021\n\n\nLate Fee:\n$20\n\n\nSend Entries To:\nDawn Leutz\n14 Shiloh Drive\nJacksonville\, IL 62650\n217-473-6642\ndleutz@mchsi.com\n\n\nAccommodations:\nBAYMONT INN 217-271-1326 HOLIDAY INN 217-245-6500 SUPER 8 217-479-0303 HAMPTON INN 217-291-0415 COMFORT INN 217-245-8372 BEST WESTERN 217-245-4500 KNIGHTS INN 1-888-424-0138. SLEEP INN 217-479-3100\n\n\nDirections:\nI72 TO IL67 NORTH TO MORTON. TURN LEFT OR WEST ON MORTON THEN 2.0 MILES TO MERRITT RD AT WHITE CHURCH. TURN RIGHT THEN 2.5 MILES TO LAKE ON RIGHT. FOLLOW SIGNS TO LAKE.\n\n\nAwards:\nUNDER 12\n\n\nPractice:\n5 PM FRIDAY TIME PERMITTING $10 PER PULL\n\n\nStart Time:\n0800 SHARP. ANY EVENTS NOT FINISHED ON SATURDAY WILL CONTINUE ON SUNDAY MORNING.\n\n\nSched of Events:\nOrder TBD. Optional turn and burn S. GIRLS BOYS WOMEN THEN MEN 3 EVENT SKIERS GET 5 PULLS MAX. 2 EVENT SKIERS GET 4 PULLS MAXIMUM. SINGLE EVENT SKIERS GET 3 PULLS MAX\n\n\nEntry Reqts:\nSKI NAUTIQUE MALIBU AND MASTERCRAFT BOATS WILL BE USED IN ROTATION\n\n\nComments:\n20 PERCENT DISCOUNT FOR SKIING FAMILIES OF 3 OR MORE. REFUNDED AT SITE. SKIERS AND OFFICIALS AND WORKERS GET FREE LUNCH.
URL:https://www.illinoiswaterski.com/event/jaws-3-round-record-and-fun/
LOCATION:JAWS\, Jacksonville\, IL\, United States
ORGANIZER;CN="Dawn Leutz":MAILTO:dleutz@mchsi.com
END:VEVENT
BEGIN:VEVENT
DTSTART;VALUE=DATE:20190927
DTEND;VALUE=DATE:20190930
DTSTAMP:20260420T033215
CREATED:20190323T155649Z
LAST-MODIFIED:20190323T155649Z
UID:383-1569542400-1569801599@www.illinoiswaterski.com
SUMMARY:Midwest Collegiate Regionals
DESCRIPTION:
URL:https://www.illinoiswaterski.com/event/midwest-collegiate-regionals-2/
LOCATION:PITS\, Decatur\, IL\, United States
ORGANIZER;CN="Dean Chappell":MAILTO:dean.chappell@comcast.net
END:VEVENT
BEGIN:VEVENT
DTSTART;VALUE=DATE:20190831
DTEND;VALUE=DATE:20190902
DTSTAMP:20260420T033215
CREATED:20190323T163430Z
LAST-MODIFIED:20190323T163430Z
UID:391-1567209600-1567382399@www.illinoiswaterski.com
SUMMARY:Nautique Swervin' Weekend - Waters Edge
DESCRIPTION:Nautique is happy to announce that the extremely popular Nautique Swervin’ Weekends¬ presented by HO Skis\, USA Water Ski and the American Water Ski Association (AWSA) will once again bring waterskiing to fans across the country in 2019. \nCreated from the desire to get more people on the water to enjoy the sport of waterskiing\, Nautique Swervin’ Weekends encompasses 18 stops starting in April. Each weekend is completely free for the participants who sign up on a first-come\, first-serve basis and lunch and snacks will be provided as well. There are limited spots at each event\, so we encourage you to sign up quickly. Each stop will have a Nautique pro waterskier on hand to help teach newcomers how to waterski and to provide tips and technique for those who want to improve their skiing. \nSupport for Nautique Swervin’ Weekends is provided by HO Skis\, USA Waterski and the AWSA. Skis\, vests\, gloves\, ropes\, handles and much more are available to use from HO ensuring everyone can get out on the water and have fun. Not only will HO be providing any gear you’d like to try\, but they’re also picking up the bill for your USA Water Ski membership for the day as well. \nA signed liability waiver is required for each participant. Waiver is available on the reservation page.
URL:https://www.illinoiswaterski.com/event/nautique-swervin-weekend-waters-edge/
LOCATION:Waters Edge\, Wilmington\, IL\, United States
ORGANIZER;CN="Jeff Surdej":MAILTO:j_surdej@yahoo.com
END:VEVENT
BEGIN:VEVENT
DTSTART;VALUE=DATE:20190824
DTEND;VALUE=DATE:20190825
DTSTAMP:20260420T033215
CREATED:20190323T155457Z
LAST-MODIFIED:20190323T155457Z
UID:381-1566604800-1566691199@www.illinoiswaterski.com
SUMMARY:PITS Fall Festival
DESCRIPTION:
URL:https://www.illinoiswaterski.com/event/pits-fall-festival-2/
LOCATION:PITS\, Decatur\, IL\, United States
ORGANIZER;CN="Becky Chappell":MAILTO:becky.chappell@comcast.net
END:VEVENT
BEGIN:VEVENT
DTSTART;VALUE=DATE:20190720
DTEND;VALUE=DATE:20190722
DTSTAMP:20260420T033215
CREATED:20190323T155346Z
LAST-MODIFIED:20190323T155346Z
UID:379-1563580800-1563753599@www.illinoiswaterski.com
SUMMARY:Illinois State Championships
DESCRIPTION:
URL:https://www.illinoiswaterski.com/event/illinois-state-championships/
LOCATION:PITS\, Decatur\, IL\, United States
ORGANIZER;CN="Becky Chappell":MAILTO:becky.chappell@comcast.net
END:VEVENT
BEGIN:VEVENT
DTSTART;VALUE=DATE:20190713
DTEND;VALUE=DATE:20190715
DTSTAMP:20260420T033215
CREATED:20190323T155253Z
LAST-MODIFIED:20190323T155253Z
UID:376-1562976000-1563148799@www.illinoiswaterski.com
SUMMARY:Green Lightening Fish Fry
DESCRIPTION:
URL:https://www.illinoiswaterski.com/event/green-lightening-fish-fry/
LOCATION:Waters Edge\, Wilmington\, IL\, United States
ORGANIZER;CN="Jeff Surdej":MAILTO:j_surdej@yahoo.com
END:VEVENT
BEGIN:VEVENT
DTSTART;VALUE=DATE:20190706
DTEND;VALUE=DATE:20190707
DTSTAMP:20260420T033215
CREATED:20190323T155127Z
LAST-MODIFIED:20190323T155127Z
UID:373-1562371200-1562457599@www.illinoiswaterski.com
SUMMARY:12th Annual Glenn Ramey Memorial
DESCRIPTION:
URL:https://www.illinoiswaterski.com/event/12th-annual-glenn-ramey-memorial/
LOCATION:PITS\, Decatur\, IL\, United States
ORGANIZER;CN="Becky Chappell":MAILTO:becky.chappell@comcast.net
END:VEVENT
BEGIN:VEVENT
DTSTART;VALUE=DATE:20190622
DTEND;VALUE=DATE:20190624
DTSTAMP:20260420T033215
CREATED:20190323T154949Z
LAST-MODIFIED:20190323T154949Z
UID:370-1561161600-1561334399@www.illinoiswaterski.com
SUMMARY:JAWS SPRING RECORD AND FUN
DESCRIPTION:
URL:https://www.illinoiswaterski.com/event/jaws-spring-record-and-fun/
LOCATION:JAWS\, Jacksonville\, IL\, United States
ORGANIZER;CN="Dawn Leutz":MAILTO:dleutz@mchsi.com
END:VEVENT
BEGIN:VEVENT
DTSTART;VALUE=DATE:20190616
DTEND;VALUE=DATE:20190618
DTSTAMP:20260420T033215
CREATED:20190323T154031Z
LAST-MODIFIED:20190323T154031Z
UID:367-1560643200-1560815999@www.illinoiswaterski.com
SUMMARY:The Liquid Edge - Wade Cox Open
DESCRIPTION:
URL:https://www.illinoiswaterski.com/event/the-liquid-edge-wade-cox-open-2/
LOCATION:The Liquid Edge\, Farmer City\, IL\, United States
ORGANIZER;CN="Doug Meeker":MAILTO:doug@theliquidedge.com
END:VEVENT
BEGIN:VEVENT
DTSTART;VALUE=DATE:20190614
DTEND;VALUE=DATE:20190616
DTSTAMP:20260420T033215
CREATED:20190323T153735Z
LAST-MODIFIED:20190323T153735Z
UID:363-1560470400-1560643199@www.illinoiswaterski.com
SUMMARY:Overstock Skis - Wade Cox Pro Invitiational
DESCRIPTION:
URL:https://www.illinoiswaterski.com/event/overstock-skis-wade-cox-pro-invitiational/
LOCATION:The Liquid Edge\, Farmer City\, IL\, United States
ORGANIZER;CN="Doug Meeker":MAILTO:doug@theliquidedge.com
END:VEVENT
BEGIN:VEVENT
DTSTART;VALUE=DATE:20190608
DTEND;VALUE=DATE:20190610
DTSTAMP:20260420T033215
CREATED:20190323T163254Z
LAST-MODIFIED:20190323T163254Z
UID:387-1559952000-1560124799@www.illinoiswaterski.com
SUMMARY:Nautique Swervin Weekends - Lake of Dreams
DESCRIPTION:Nautique is happy to announce that the extremely popular Nautique Swervin’ Weekends¬ presented by HO Skis\, USA Water Ski and the American Water Ski Association (AWSA) will once again bring waterskiing to fans across the country in 2019. \nCreated from the desire to get more people on the water to enjoy the sport of waterskiing\, Nautique Swervin’ Weekends encompasses 18 stops starting in April. Each weekend is completely free for the participants who sign up on a first-come\, first-serve basis and lunch and snacks will be provided as well. There are limited spots at each event\, so we encourage you to sign up quickly. Each stop will have a Nautique pro waterskier on hand to help teach newcomers how to waterski and to provide tips and technique for those who want to improve their skiing. \nSupport for Nautique Swervin’ Weekends is provided by HO Skis\, USA Waterski and the AWSA. Skis\, vests\, gloves\, ropes\, handles and much more are available to use from HO ensuring everyone can get out on the water and have fun. Not only will HO be providing any gear you’d like to try\, but they’re also picking up the bill for your USA Water Ski membership for the day as well. \nA signed liability waiver is required for each participant. Waiver is available on the reservation page.
URL:https://www.illinoiswaterski.com/event/nautique-swervin-weekends-lake-of-dreams/
LOCATION:LODI\, 24379 Lodi Rd\, Jerseyville\, IL\, 62052\, United States
ORGANIZER;CN="Dave Krone":MAILTO:dave@davekrohne.com
END:VEVENT
BEGIN:VEVENT
DTSTART;VALUE=DATE:20180928
DTEND;VALUE=DATE:20181001
DTSTAMP:20260420T033215
CREATED:20180114T033115Z
LAST-MODIFIED:20180114T033115Z
UID:107-1538092800-1538351999@www.illinoiswaterski.com
SUMMARY:Midwest Collegiate Regionals
DESCRIPTION:
URL:https://www.illinoiswaterski.com/event/midwest-collegiate-regionals/
LOCATION:PITS\, Decatur\, IL\, United States
END:VEVENT
BEGIN:VEVENT
DTSTART;VALUE=DATE:20180908
DTEND;VALUE=DATE:20180909
DTSTAMP:20260420T033215
CREATED:20180114T032952Z
LAST-MODIFIED:20180114T032952Z
UID:105-1536364800-1536451199@www.illinoiswaterski.com
SUMMARY:PITS Fall Festival
DESCRIPTION:
URL:https://www.illinoiswaterski.com/event/pits-fall-festival/
LOCATION:PITS\, Decatur\, IL\, United States
END:VEVENT
BEGIN:VEVENT
DTSTART;VALUE=DATE:20180727
DTEND;VALUE=DATE:20180730
DTSTAMP:20260420T033215
CREATED:20180114T032852Z
LAST-MODIFIED:20180114T032852Z
UID:103-1532649600-1532908799@www.illinoiswaterski.com
SUMMARY:Ski Nautique Midwest Regional Championships
DESCRIPTION:
URL:https://www.illinoiswaterski.com/event/ski-nautique-midwest-regional-championships/
LOCATION:Waters Edge\, Wilmington\, IL\, United States
END:VEVENT
BEGIN:VEVENT
DTSTART;VALUE=DATE:20180721
DTEND;VALUE=DATE:20180723
DTSTAMP:20260420T033215
CREATED:20180114T032730Z
LAST-MODIFIED:20180114T032730Z
UID:100-1532131200-1532303999@www.illinoiswaterski.com
SUMMARY:Illinois State Championship
DESCRIPTION:
URL:https://www.illinoiswaterski.com/event/illinois-state-championship/
LOCATION:Lake Richard\, Dow\, IL\, United States
END:VEVENT
BEGIN:VEVENT
DTSTART;VALUE=DATE:20180714
DTEND;VALUE=DATE:20180716
DTSTAMP:20260420T033215
CREATED:20180114T032554Z
LAST-MODIFIED:20180114T032554Z
UID:97-1531526400-1531699199@www.illinoiswaterski.com
SUMMARY:Fish Fry Green Lightning Team Tournament
DESCRIPTION:
URL:https://www.illinoiswaterski.com/event/fish-fry-green-lightning-team-tournament/
LOCATION:Waters Edge\, Wilmington\, IL\, United States
END:VEVENT
BEGIN:VEVENT
DTSTART;VALUE=DATE:20180707
DTEND;VALUE=DATE:20180708
DTSTAMP:20260420T033215
CREATED:20180114T032417Z
LAST-MODIFIED:20180114T032417Z
UID:94-1530921600-1531007999@www.illinoiswaterski.com
SUMMARY:11th Glenn Ramey Memorial
DESCRIPTION:
URL:https://www.illinoiswaterski.com/event/11th-glenn-ramey-memorial/
LOCATION:PITS\, Decatur\, IL\, United States
END:VEVENT
BEGIN:VEVENT
DTSTART;VALUE=DATE:20180701
DTEND;VALUE=DATE:20180702
DTSTAMP:20260420T033215
CREATED:20180114T032243Z
LAST-MODIFIED:20180114T032243Z
UID:92-1530403200-1530489599@www.illinoiswaterski.com
SUMMARY:JAWS 3 ROUND RECORD AND FUN PART 2
DESCRIPTION:
URL:https://www.illinoiswaterski.com/event/jaws-3-round-record-and-fun-part-2/
LOCATION:JAWS\, Jacksonville\, IL\, United States
END:VEVENT
BEGIN:VEVENT
DTSTART;VALUE=DATE:20180630
DTEND;VALUE=DATE:20180701
DTSTAMP:20260420T033215
CREATED:20180114T032136Z
LAST-MODIFIED:20180114T032136Z
UID:89-1530316800-1530403199@www.illinoiswaterski.com
SUMMARY:JAWS 3 ROUND RECORD AND FUN PART 1
DESCRIPTION:
URL:https://www.illinoiswaterski.com/event/jaws-3-round-record-and-fun-part-1/
LOCATION:JAWS\, Jacksonville\, IL\, United States
END:VEVENT
BEGIN:VEVENT
DTSTART;VALUE=DATE:20180609
DTEND;VALUE=DATE:20180611
DTSTAMP:20260420T033215
CREATED:20180113T234142Z
LAST-MODIFIED:20180113T234142Z
UID:66-1528502400-1528675199@www.illinoiswaterski.com
SUMMARY:The Liquid Edge - Wade Cox Open
DESCRIPTION:
URL:https://www.illinoiswaterski.com/event/the-liquid-edge-wade-cox-open/
LOCATION:The Liquid Edge\, Farmer City\, IL\, United States
END:VEVENT
BEGIN:VEVENT
DTSTART;VALUE=DATE:20180106
DTEND;VALUE=DATE:20180107
DTSTAMP:20260420T033215
CREATED:20180113T213722Z
LAST-MODIFIED:20180113T213722Z
UID:57-1515196800-1515283199@www.illinoiswaterski.com
SUMMARY:AWSA Midwest Winter Meeting
DESCRIPTION:
URL:https://www.illinoiswaterski.com/event/awsa-midwest-winter-meeting/
LOCATION:IL
END:VEVENT
END:VCALENDAR